View In:
ArcGIS JavaScript
ArcGIS Online Map Viewer
ArcGIS Earth
ArcMap
ArcGIS Pro
View Footprint In:
ArcGIS Online Map Viewer
Service Description: Ce service cartographique propose une visualisation de la Nouvelle-Calédonie à partir d'images satellitales et de photographies aériennes acquises par le gouvernement de la Nouvelle-Calédonie. Ce service est régulièrement amélioré en ajoutant des images récentes en fonction des acquisitions.
Map Name: Couches
Legend
All Layers and Tables
Layers:
Description:
Copyright Text: Gouvernement de la Nouvelle-Calédonie
Spatial Reference:
3163
(3163)
Single Fused Map Cache: true
Tile Info:
- Height: 256
- Width: 256
- DPI: 96
-
Levels of Detail: 14
-
Level ID: 4
[ Start Tile, End Tile ]
- Resolution: 264.5838625010584
- Scale: 1000000.0000000001
-
Level ID: 5
[ Start Tile, End Tile ]
- Resolution: 132.2919312505292
- Scale: 500000.00000000006
-
Level ID: 6
[ Start Tile, End Tile ]
- Resolution: 66.1459656252646
- Scale: 250000.00000000003
- Format: MIXED
- Compression Quality: 90.0
- Origin: X: -5750000.0
Y: 1.04E7
- Spatial Reference: 3163
(3163)
Initial Extent:
XMin: -2380435.174823918
YMin: 4938.719921662705
XMax: 3332442.514423926
YMax: 2525740.132515
Spatial Reference: 3163
(3163)
Full Extent:
XMin: -1624130.7387999967
YMin: -1502549.1741000004
XMax: 2576138.078400001
YMax: 2333916.832199998
Spatial Reference: 3163
(3163)
Units: esriMeters
Supported Image Format Types: PNG32,PNG24,PNG,JPG,DIB,TIFF,EMF,PS,PDF,GIF,SVG,SVGZ,BMP
Document Info:
Title: fond_imagerie
Author: Gouvernement de la Nouvelle-Calédonie
Comments: Ce service cartographique propose une visualisation de la Nouvelle-Calédonie à partir d'images satellitales SENTINEL et de photographies aériennes acquises par le gouvernement de la Nouvelle-Calédonie. Ce service est régulièrement amélioré en ajoutant des images récentes en fonction des acquisitions.
Subject: fond_imagerie
Category:
Keywords: imagerie
AntialiasingMode: None
TextAntialiasingMode: Force
Supports Dynamic Layers: false
Resampling: false
MaxRecordCount: 1000
MaxImageHeight: 4096
MaxImageWidth: 4096
Supported Query Formats: JSON, geoJSON
Supports Query Data Elements:
Min Scale: 25000000
Max Scale: 1000
Supports Datum Transformation: true
Child Resources:
Info
Supported Operations:
Export Map
Identify
QueryLegends
QueryDomains
Find
Return Updates