{
 "currentVersion": 10.91,
 "serviceDescription": "Ce service cartographique propose une visualisation de la Nouvelle-Calédonie à partir d'images satellitales et de photographies aériennes acquises par le gouvernement de la Nouvelle-Calédonie. Ce service est régulièrement amélioré en ajoutant des images récentes en fonction des acquisitions.",
 "mapName": "Couches",
 "description": "",
 "copyrightText": "Gouvernement de la Nouvelle-Calédonie",
 "supportsDynamicLayers": false,
 "layers": [
  {
   "id": 0,
   "name": "fond_imagerie",
   "parentLayerId": -1,
   "defaultVisibility": true,
   "subLayerIds": null,
   "minScale": 0,
   "maxScale": 0,
   "type": "Feature Layer",
   "geometryType": "esriGeometryPolygon"
  }
 ],
 "tables": [],
 "spatialReference": {
  "wkid": 3163,
  "latestWkid": 3163
 },
 "singleFusedMapCache": true,
 "tileInfo": {
  "rows": 256,
  "cols": 256,
  "dpi": 96,
  "format": "MIXED",
  "compressionQuality": 90,
  "origin": {
   "x": -5750000,
   "y": 10400000
  },
  "spatialReference": {
   "wkid": 3163,
   "latestWkid": 3163
  },
  "lods": [
   {
    "level": 0,
    "resolution": 6614.596562526459,
    "scale": 25000000
   },
   {
    "level": 1,
    "resolution": 2645.8386250105837,
    "scale": 10000000
   },
   {
    "level": 2,
    "resolution": 1322.9193125052918,
    "scale": 5000000
   },
   {
    "level": 3,
    "resolution": 661.4596562526459,
    "scale": 2500000
   },
   {
    "level": 4,
    "resolution": 264.5838625010584,
    "scale": 1000000.0000000001
   },
   {
    "level": 5,
    "resolution": 132.2919312505292,
    "scale": 500000.00000000006
   },
   {
    "level": 6,
    "resolution": 66.1459656252646,
    "scale": 250000.00000000003
   },
   {
    "level": 7,
    "resolution": 26.458386250105836,
    "scale": 100000
   },
   {
    "level": 8,
    "resolution": 13.229193125052918,
    "scale": 50000
   },
   {
    "level": 9,
    "resolution": 6.614596562526459,
    "scale": 25000
   },
   {
    "level": 10,
    "resolution": 2.6458386250105836,
    "scale": 10000
   },
   {
    "level": 11,
    "resolution": 1.3229193125052918,
    "scale": 5000
   },
   {
    "level": 12,
    "resolution": 0.5291677250021167,
    "scale": 2000
   },
   {
    "level": 13,
    "resolution": 0.26458386250105836,
    "scale": 1000
   }
  ]
 },
 "initialExtent": {
  "xmin": -2380435.174823918,
  "ymin": 4938.719921662705,
  "xmax": 3332442.514423926,
  "ymax": 2525740.132515,
  "spatialReference": {
   "wkid": 3163,
   "latestWkid": 3163
  }
 },
 "fullExtent": {
  "xmin": -1624130.7387999967,
  "ymin": -1502549.1741000004,
  "xmax": 2576138.078400001,
  "ymax": 2333916.832199998,
  "spatialReference": {
   "wkid": 3163,
   "latestWkid": 3163
  }
 },
 "minScale": 25000000,
 "maxScale": 1000,
 "units": "esriMeters",
 "supportedImageFormatTypes": "PNG32,PNG24,PNG,JPG,DIB,TIFF,EMF,PS,PDF,GIF,SVG,SVGZ,BMP",
 "documentInfo": {
  "Title": "fond_imagerie",
  "Author": "Gouvernement de la Nouvelle-Calédonie",
  "Comments": "Ce service cartographique propose une visualisation de la Nouvelle-Calédonie à partir d'images satellitales SENTINEL et de photographies aériennes acquises par le gouvernement de la Nouvelle-Calédonie. Ce service est régulièrement amélioré en ajoutant des images récentes en fonction des acquisitions.",
  "Subject": "fond_imagerie",
  "Category": "",
  "AntialiasingMode": "None",
  "TextAntialiasingMode": "Force",
  "Keywords": "imagerie"
 },
 "capabilities": "Map,Query,Data",
 "supportedQueryFormats": "JSON, geoJSON",
 "exportTilesAllowed": false,
 "referenceScale": 0,
 "supportsDatumTransformation": true,
 "maxRecordCount": 1000,
 "maxImageHeight": 4096,
 "maxImageWidth": 4096,
 "supportedExtensions": "WMSServer",
 "resampling": false
}
