View In:
ArcGIS JavaScript
ArcGIS Online Map Viewer
ArcGIS Earth
ArcMap
ArcGIS Pro
View Footprint In:
ArcGIS Online Map Viewer
Service Description: Ce service web comprend des données cartographiques sur la Nouvelle-Calédonie réalisées par la DITTT à l'échelle du 1/10 000ème jusqu'au 1/650 000ème. Au-delà (jusqu'au 1/25 000 000ème), des données mondiales (source ESRI) ont été intégrées. Elle décrit l'occupation du sol,les réseaux routiers, les zones bâties,l'hydrographie, le relief et les limites administratives... Il s'agit d'un référentiel de base pour toutes les applications d'aménagement et de gestion de l'espace, de l'échelle de la commune à celle du territoire.
Map Name: Couches
Legend
All Layers and Tables
Layers:
Description:
Copyright Text: Gouvernement de la Nouvelle-Calédonie
Spatial Reference:
3163
(3163)
Single Fused Map Cache: true
Tile Info:
- Height: 256
- Width: 256
- DPI: 96
-
Levels of Detail: 14
-
Level ID: 4
[ Start Tile, End Tile ]
- Resolution: 264.5838625010584
- Scale: 1000000.0000000001
-
Level ID: 5
[ Start Tile, End Tile ]
- Resolution: 132.2919312505292
- Scale: 500000.00000000006
-
Level ID: 6
[ Start Tile, End Tile ]
- Resolution: 66.1459656252646
- Scale: 250000.00000000003
- Format: MIXED
- Compression Quality: 90.0
- Origin: X: -5750000.0
Y: 1.04E7
- Spatial Reference: 3163
(3163)
Initial Extent:
XMin: -3543431.579524721
YMin: -168810.7986505404
XMax: 4506532.43706998
YMax: 3383227.5554261683
Spatial Reference: 3163
(3163)
Full Extent:
XMin: -1624130.7387999967
YMin: -1502549.1741000004
XMax: 2576138.078400001
YMax: 2333916.832199998
Spatial Reference: 3163
(3163)
Units: esriMeters
Supported Image Format Types: PNG32,PNG24,PNG,JPG,DIB,TIFF,EMF,PS,PDF,GIF,SVG,SVGZ,BMP
Document Info:
Title: fond_cartographie
Author: Gouvernement de la Nouvelle-Calédonie
Comments: Ce service web comprend des données cartographiques sur la Nouvelle-Calédonie réalisées par la DITTT à l'échelle du 1/10 000ème jusqu'au 1/650 000ème. Au-delà (jusqu'au 1/25 000 000ème), des données mondiales (source ESRI) ont été intégrées. Elle décrit l'occupation du sol,les réseaux routiers, les zones bâties,l'hydrographie, le relief et les limites administratives... Il s'agit d'un référentiel de base pour toutes les applications d'aménagement et de gestion de l'espace, de l'échelle de la commune à celle du territoire.
Subject:
Category:
Keywords:
AntialiasingMode: None
TextAntialiasingMode: Force
Supports Dynamic Layers: false
Resampling: false
MaxRecordCount: 1000
MaxImageHeight: 4096
MaxImageWidth: 4096
Supported Query Formats: JSON, geoJSON
Supports Query Data Elements:
Min Scale: 25000000
Max Scale: 1000
Min LOD: 0
Max LOD: 13
Supports Datum Transformation: true
Child Resources:
Info
Supported Operations:
Export Map
Identify
QueryLegends
QueryDomains
Find
Return Updates