{
 "currentVersion": 10.91,
 "serviceDescription": "Service cartographique regroupant les toponymes marins et terrestres de différentes bases de données (BDCARTO, BDTOPO, SIGMAR) de la DITTT et du SGT (Service de la Géomatique et de la Télédétection). Vous pouvez utiliser ce service en le superposant à d'autres données pour afficher le nom des lieux",
 "mapName": "Couches",
 "description": "Service cartographique regroupant les toponymes marins et terrestres de différentes bases de données (BDCARTO, BDTOPO, SIGMAR) de la DITTT et du SGT (Service de la Géomatique et de la Télédétection). Vous pouvez utiliser ce service en le superposant à d'autres données pour afficher le nom des lieux.",
 "copyrightText": "Gouvernement de la Nouvelle-Calédonie",
 "supportsDynamicLayers": false,
 "layers": [
  {
   "id": 0,
   "name": "Toponymes_cache",
   "parentLayerId": -1,
   "defaultVisibility": true,
   "subLayerIds": null,
   "minScale": 25000000,
   "maxScale": 1000,
   "type": "Feature Layer",
   "geometryType": "esriGeometryPolygon"
  }
 ],
 "tables": [],
 "spatialReference": {
  "wkid": 3163,
  "latestWkid": 3163
 },
 "singleFusedMapCache": true,
 "tileInfo": {
  "rows": 256,
  "cols": 256,
  "dpi": 96,
  "format": "PNG32",
  "compressionQuality": 0,
  "origin": {
   "x": -5750000,
   "y": 10400000
  },
  "spatialReference": {
   "wkid": 3163,
   "latestWkid": 3163
  },
  "lods": [
   {
    "level": 0,
    "resolution": 6614.596562526459,
    "scale": 25000000
   },
   {
    "level": 1,
    "resolution": 2645.8386250105837,
    "scale": 10000000
   },
   {
    "level": 2,
    "resolution": 1322.9193125052918,
    "scale": 5000000
   },
   {
    "level": 3,
    "resolution": 661.4596562526459,
    "scale": 2500000
   },
   {
    "level": 4,
    "resolution": 264.5838625010584,
    "scale": 1000000
   },
   {
    "level": 5,
    "resolution": 132.2919312505292,
    "scale": 500000
   },
   {
    "level": 6,
    "resolution": 66.1459656252646,
    "scale": 250000
   },
   {
    "level": 7,
    "resolution": 26.458386250105836,
    "scale": 100000
   },
   {
    "level": 8,
    "resolution": 13.229193125052918,
    "scale": 50000
   },
   {
    "level": 9,
    "resolution": 6.614596562526459,
    "scale": 25000
   },
   {
    "level": 10,
    "resolution": 2.6458386250105836,
    "scale": 10000
   },
   {
    "level": 11,
    "resolution": 1.3229193125052918,
    "scale": 5000
   },
   {
    "level": 12,
    "resolution": 0.5291677250021167,
    "scale": 2000
   },
   {
    "level": 13,
    "resolution": 0.26458386250105836,
    "scale": 1000
   }
  ]
 },
 "initialExtent": {
  "xmin": 76951.592039135,
  "ymin": 227046.64398572408,
  "xmax": 610881.8265662708,
  "ymax": 514913.8863868755,
  "spatialReference": {
   "wkid": 3163,
   "latestWkid": 3163
  }
 },
 "fullExtent": {
  "xmin": -5744230.66882764,
  "ymin": -6853706.22045268,
  "xmax": 1.95886657077226E7,
  "ymax": 1.1033901279564E7,
  "spatialReference": {
   "wkid": 3163,
   "latestWkid": 3163
  }
 },
 "minScale": 25000000,
 "maxScale": 1000,
 "units": "esriMeters",
 "supportedImageFormatTypes": "PNG32,PNG24,PNG,JPG,DIB,TIFF,EMF,PS,PDF,GIF,SVG,SVGZ,BMP",
 "documentInfo": {
  "Title": "Toponymes_cache",
  "Author": "Gouvernement de la Nouvelle-Calédonie",
  "Comments": "Service cartographique regroupant les toponymes marins et terrestres de différentes bases de données (BDCARTO, BDTOPO, SIGMAR) de la DITTT et du SGT (Service de la Géomatique et de la Télédétection). Vous pouvez utiliser ce service en le superposant à d'autres données pour afficher le nom des lieux.",
  "Subject": "Service de carte caché regroupant les toponymes marins et terrestres en Nouvelle-Calédonie",
  "Category": "",
  "AntialiasingMode": "None",
  "TextAntialiasingMode": "Force",
  "Keywords": "Service de visualisation géographique,toponymes,lieu,nom,villes,village,tribu,ilot,recif,passe,maritime,mer,terre,rivière,creek,fleuve,mont,montagne,col,forêt,lieu-dit,habité,langue,topo,ile,commune"
 },
 "capabilities": "Map,Query,Data",
 "supportedQueryFormats": "JSON, geoJSON",
 "exportTilesAllowed": false,
 "referenceScale": 0,
 "datumTransformations": [
  {
   "geoTransforms": [
    {
     "wkid": 108001,
     "latestWkid": 1241,
     "transformForward": true,
     "name": "NAD_1927_To_NAD_1983_NADCON"
    }
   ]
  },
  {
   "geoTransforms": [
    {
     "wkid": 108001,
     "latestWkid": 1241,
     "transformForward": false,
     "name": "NAD_1927_To_NAD_1983_NADCON"
    }
   ]
  }
 ],
 "supportsDatumTransformation": true,
 "maxRecordCount": 1000,
 "maxImageHeight": 4096,
 "maxImageWidth": 4096,
 "supportedExtensions": "WMSServer"
}
